BEGIN:VCALENDAR
VERSION:2.0
PRODID:-//Hansmeier Königslutter - ECPv6.15.20//NONSGML v1.0//EN
CALSCALE:GREGORIAN
METHOD:PUBLISH
X-WR-CALNAME:Hansmeier Königslutter
X-ORIGINAL-URL:https://hansmeier-koenigslutter.de
X-WR-CALDESC:Veranstaltungen für Hansmeier Königslutter
REFRESH-INTERVAL;VALUE=DURATION:PT1H
X-Robots-Tag:noindex
X-PUBLISHED-TTL:PT1H
BEGIN:VTIMEZONE
TZID:Europe/Berlin
BEGIN:DAYLIGHT
TZOFFSETFROM:+0100
TZOFFSETTO:+0200
TZNAME:CEST
DTSTART:20200329T010000
END:DAYLIGHT
BEGIN:STANDARD
TZOFFSETFROM:+0200
TZOFFSETTO:+0100
TZNAME:CET
DTSTART:20201025T010000
END:STANDARD
BEGIN:DAYLIGHT
TZOFFSETFROM:+0100
TZOFFSETTO:+0200
TZNAME:CEST
DTSTART:20210328T010000
END:DAYLIGHT
BEGIN:STANDARD
TZOFFSETFROM:+0200
TZOFFSETTO:+0100
TZNAME:CET
DTSTART:20211031T010000
END:STANDARD
BEGIN:DAYLIGHT
TZOFFSETFROM:+0100
TZOFFSETTO:+0200
TZNAME:CEST
DTSTART:20220327T010000
END:DAYLIGHT
BEGIN:STANDARD
TZOFFSETFROM:+0200
TZOFFSETTO:+0100
TZNAME:CET
DTSTART:20221030T010000
END:STANDARD
END:VTIMEZONE
BEGIN:VEVENT
DTSTART;TZID=Europe/Berlin:20211216T190000
DTEND;TZID=Europe/Berlin:20211216T190000
DTSTAMP:20260421T193742
CREATED:20210827T114030Z
LAST-MODIFIED:20210827T114457Z
UID:1665-1639681200-1639681200@hansmeier-koenigslutter.de
SUMMARY:Jahresabschlussversammlung des Technikervereins Braunschweig von 1887 e.V.
DESCRIPTION:nicht öffentlich
URL:https://hansmeier-koenigslutter.de/veranstaltung/jahresabschlussversammlung-des-technikervereins-braunschweig-von-1887-e-v-1/
LOCATION:Großer Saal Handwerkskammer Braunschweig\, Burgplatz 2 + 2a\, Braunschweig\, 38100
CATEGORIES:Technikerverein Braunschweig e.V.
END:VEVENT
BEGIN:VEVENT
DTSTART;TZID=Europe/Berlin:20211129T160000
DTEND;TZID=Europe/Berlin:20211129T160000
DTSTAMP:20260421T193742
CREATED:20210827T113857Z
LAST-MODIFIED:20210827T114716Z
UID:1663-1638201600-1638201600@hansmeier-koenigslutter.de
SUMMARY:Vollversammlung der IHK Braunschweig
DESCRIPTION:nicht öffentlich
URL:https://hansmeier-koenigslutter.de/veranstaltung/vollversammlung-der-ihk-braunschweig-2/
LOCATION:IHK Braunschweig\, Brabandtstraße 11\, Braunschweig\, 38100
CATEGORIES:IHK
END:VEVENT
BEGIN:VEVENT
DTSTART;TZID=Europe/Berlin:20211125T090000
DTEND;TZID=Europe/Berlin:20211125T090000
DTSTAMP:20260421T193742
CREATED:20210827T113738Z
LAST-MODIFIED:20210827T114740Z
UID:1661-1637830800-1637830800@hansmeier-koenigslutter.de
SUMMARY:Sitzung Sachverständigenausschuss der IHK Braunschweig
DESCRIPTION:nicht öffentlich
URL:https://hansmeier-koenigslutter.de/veranstaltung/sitzung-sachverstaendigenausschuss-der-ihk-braunschweig/
LOCATION:IHK Braunschweig\, Brabandtstraße 11\, Braunschweig\, 38100
CATEGORIES:IHK
END:VEVENT
BEGIN:VEVENT
DTSTART;TZID=Europe/Berlin:20211119T190000
DTEND;TZID=Europe/Berlin:20211119T190000
DTSTAMP:20260421T193742
CREATED:20210827T113640Z
LAST-MODIFIED:20210827T115053Z
UID:1659-1637348400-1637348400@hansmeier-koenigslutter.de
SUMMARY:133. Herrenabend des Technikervereins Braunschweig von 1887 e.V.
DESCRIPTION:nicht öffentlich
URL:https://hansmeier-koenigslutter.de/veranstaltung/133-herrenabend-des-technikervereins-braunschweg-von-1887-e-v/
LOCATION:Volkswagen Halle Braunschweig\, Europapl. 1\, Braunschweig\, 38100
CATEGORIES:Technikerverein Braunschweig e.V.
END:VEVENT
BEGIN:VEVENT
DTSTART;TZID=Europe/Berlin:20211020T190000
DTEND;TZID=Europe/Berlin:20211020T190000
DTSTAMP:20260421T193742
CREATED:20210827T113456Z
LAST-MODIFIED:20210827T125415Z
UID:1657-1634756400-1634756400@hansmeier-koenigslutter.de
SUMMARY:Stipendiatenvortrag Technikerverein Braunschweig von 1887 e.V.
DESCRIPTION:nicht öffentlich
URL:https://hansmeier-koenigslutter.de/veranstaltung/stipendiatenvortrag-technikerverein-braunschweig-von-1887-e-v/
LOCATION:Digital
CATEGORIES:Technikerverein Braunschweig e.V.
END:VEVENT
BEGIN:VEVENT
DTSTART;TZID=Europe/Berlin:20211004T080000
DTEND;TZID=Europe/Berlin:20211004T080000
DTSTAMP:20260421T193742
CREATED:20210827T113331Z
LAST-MODIFIED:20210827T115319Z
UID:1655-1633334400-1633334400@hansmeier-koenigslutter.de
SUMMARY:Vorstandssitzung der Politischen Bildungsstätte Helmstedt
DESCRIPTION:nicht öffentlich
URL:https://hansmeier-koenigslutter.de/veranstaltung/vorstandssitzung-der-politischen-bildungsstaette-helmstedt/
LOCATION:Politische Bildungsstätte Helmstedt\, Am Bötschenberg 4\, Helmstedt\, 38350
CATEGORIES:Politische Bildungsstätte
END:VEVENT
BEGIN:VEVENT
DTSTART;TZID=Europe/Berlin:20210927T160000
DTEND;TZID=Europe/Berlin:20210927T160000
DTSTAMP:20260421T193742
CREATED:20210827T113046Z
LAST-MODIFIED:20210827T114805Z
UID:1653-1632758400-1632758400@hansmeier-koenigslutter.de
SUMMARY:Vollversammlung der IHK Braunschweig
DESCRIPTION:nicht öffentlich
URL:https://hansmeier-koenigslutter.de/veranstaltung/vollversammlung-der-ihk-braunschweig/
LOCATION:IHK Braunschweig\, Brabandtstraße 11\, Braunschweig\, 38100
CATEGORIES:IHK
END:VEVENT
BEGIN:VEVENT
DTSTART;TZID=Europe/Berlin:20210916T190000
DTEND;TZID=Europe/Berlin:20210916T190000
DTSTAMP:20260421T193742
CREATED:20210827T112646Z
LAST-MODIFIED:20210827T115552Z
UID:1651-1631818800-1631818800@hansmeier-koenigslutter.de
SUMMARY:Jahresmitgliederversammlung mit Stipendiatenvortrag des Technikervereins Braunschweig von 1887 e.V.
DESCRIPTION:nicht öffentlich
URL:https://hansmeier-koenigslutter.de/veranstaltung/jahresmitgliederversammlung-mit-stipendiatenvortrag-des-technikervereins-braunschweig-von-1887-e-v/
LOCATION:Gaststätte „Zur Erholung“ Braunschweig\, Helmstedter Str. 91\, Braunschweig\, 38126
CATEGORIES:Technikerverein Braunschweig e.V.
END:VEVENT
BEGIN:VEVENT
DTSTART;TZID=Europe/Berlin:20210911T090000
DTEND;TZID=Europe/Berlin:20210911T120000
DTSTAMP:20260421T193742
CREATED:20210811T073041Z
LAST-MODIFIED:20210826T110219Z
UID:745-1631350800-1631361600@hansmeier-koenigslutter.de
SUMMARY:Kommunalwahlkandidaten im Gespräch
DESCRIPTION:Am Informationstand der CDU Königslutter freuen sich Sabrina und Sven Hansmeier auf das interessierte Gespräch mit den Königslutteranern über die anstehenden Wahlen\, ihre Ziele und politischen Angebote. \nDie Architektin Sabrina Hansmeier stellt sich am 12.9.2021 zur Wahl zum Stadtrat. \nDer Unternehmer Sven Hansmeier kandidiert am 12.9.2021 für den Kreistag. \nTeilnehmer: Sven Hansmeier\, Sabrina Hansmeier\nDiese Veranstaltung ist öffentlich \n 
URL:https://hansmeier-koenigslutter.de/veranstaltung/kommunalwahlkandidaten-im-gespraech-5/
LOCATION:Edeka Parkplatz\, Rottorfer Str. 2\, Königslutter am Elm\, 38154\, Germany
CATEGORIES:CDU/Politik
END:VEVENT
BEGIN:VEVENT
DTSTART;TZID=Europe/Berlin:20210909T090000
DTEND;TZID=Europe/Berlin:20210909T120000
DTSTAMP:20260421T193742
CREATED:20210811T072952Z
LAST-MODIFIED:20210817T063444Z
UID:743-1631178000-1631188800@hansmeier-koenigslutter.de
SUMMARY:Kommunalwahlkandidaten im Gespräch
DESCRIPTION:Am Informationstand der CDU Königslutter freuen sich Sabrina und Sven Hansmeier auf das interessierte Gespräch mit den Königslutteranern über die anstehenden Wahlen\, ihre Ziele und politischen Angebote. \nDie Architektin Sabrina Hansmeier stellt sich am 12.9.2021 zur Wahl zum Stadtrat. \nDer Unternehmer Sven Hansmeier kandidiert am 12.9.2021 für den Kreistag. \nTeilnehmer: Sven Hansmeier\, Sabrina Hansmeier\nDiese Veranstaltung ist öffentlich \n 
URL:https://hansmeier-koenigslutter.de/veranstaltung/kommunalwahlkandidaten-im-gespraech-4/
LOCATION:Marktplatz\, Am Markt\, Königslutter am Elm\, 38154\, Germany
CATEGORIES:CDU/Politik
END:VEVENT
BEGIN:VEVENT
DTSTART;TZID=Europe/Berlin:20210904T090000
DTEND;TZID=Europe/Berlin:20210904T120000
DTSTAMP:20260421T193742
CREATED:20210811T072832Z
LAST-MODIFIED:20210817T063506Z
UID:741-1630746000-1630756800@hansmeier-koenigslutter.de
SUMMARY:Kommunalwahlkandidaten im Gespräch
DESCRIPTION:Am Informationstand der CDU Königslutter freuen sich Sabrina und Sven Hansmeier auf das interessierte Gespräch mit den Königslutteranern über die anstehenden Wahlen\, ihre Ziele und politischen Angebote. \nDie Architektin Sabrina Hansmeier stellt sich am 12.9.2021 zur Wahl zum Stadtrat. \nDer Unternehmer Sven Hansmeier kandidiert am 12.9.2021 für den Kreistag. \nTeilnehmer: Sven Hansmeier\, Sabrina Hansmeier\nDiese Veranstaltung ist öffentlich \n 
URL:https://hansmeier-koenigslutter.de/veranstaltung/kommunalwahlkandidaten-im-gespraech-3/
LOCATION:Lidl Parkplatz\, Fischersteg 2\, Königslutter am Elm\, 38154\, Germany
CATEGORIES:CDU/Politik
END:VEVENT
BEGIN:VEVENT
DTSTART;TZID=Europe/Berlin:20210902T090000
DTEND;TZID=Europe/Berlin:20210902T120000
DTSTAMP:20260421T193742
CREATED:20210827T125233Z
LAST-MODIFIED:20210827T125233Z
UID:1731-1630573200-1630584000@hansmeier-koenigslutter.de
SUMMARY:Kommunalwahlkandidaten im Gespräch
DESCRIPTION:Am Informationstand der CDU Königslutter freuen sich Sabrina und Sven Hansmeier auf das interessierte Gespräch mit den Königslutteranern über die anstehenden Wahlen\, ihre Ziele und politischen Angebote. \nDie Architektin Sabrina Hansmeier stellt sich am 12.9.2021 zur Wahl zum Stadtrat. \nDer Unternehmer Sven Hansmeier kandidiert am 12.9.2021 für den Kreistag. \nTeilnehmer: Sven Hansmeier\, Sabrina Hansmeier\nDiese Veranstaltung ist öffentlich
URL:https://hansmeier-koenigslutter.de/veranstaltung/kommunalwahlkandidaten-im-gespraech-6/
LOCATION:Marktplatz\, Am Markt\, Königslutter am Elm\, 38154\, Germany
CATEGORIES:CDU/Politik
END:VEVENT
BEGIN:VEVENT
DTSTART;TZID=Europe/Berlin:20210830T150000
DTEND;TZID=Europe/Berlin:20210830T163000
DTSTAMP:20260421T193742
CREATED:20210831T064657Z
LAST-MODIFIED:20210831T064742Z
UID:1757-1630335600-1630341000@hansmeier-koenigslutter.de
SUMMARY:„Walk & Talk in Lehre“
DESCRIPTION:Sven Hansmeier begibt sich im Rahmen seiner Kandidatur für den Kreistag Helmstedt für spontane Gespräche und Ortsbesichtigungen auf einen Rundgang durch Lehre auf Einladung des örtlichen Unternehmers Dirk Evers. \nöffentlich
URL:https://hansmeier-koenigslutter.de/veranstaltung/walk-talk-in-lehre/
LOCATION:Lehre\, Lehre\, 38165
CATEGORIES:CDU/Politik
END:VEVENT
BEGIN:VEVENT
DTSTART;TZID=Europe/Berlin:20210828T090000
DTEND;TZID=Europe/Berlin:20210828T120000
DTSTAMP:20260421T193742
CREATED:20210811T072306Z
LAST-MODIFIED:20210820T120526Z
UID:735-1630141200-1630152000@hansmeier-koenigslutter.de
SUMMARY:Kommunalwahlkandidaten im Gespräch
DESCRIPTION:Am Informationstand der CDU Königslutter freuen sich Sabrina und Sven Hansmeier auf das interessierte Gespräch mit den Königslutteranern über die anstehenden Wahlen\, ihre Ziele und politischen Angebote. \nDie Architektin Sabrina Hansmeier stellt sich am 12.9.2021 zur Wahl zum Stadtrat. \nDer Unternehmer Sven Hansmeier kandidiert am 12.9.2021 für den Kreistag. \nTeilnehmer: Sven Hansmeier\, Sabrina Hansmeier\nDiese Veranstaltung ist öffentlich
URL:https://hansmeier-koenigslutter.de/veranstaltung/kommunalwahlkandidaten-im-gespraech-2/
LOCATION:Lidl Parkplatz\, Fischersteg 2\, Königslutter am Elm\, 38154\, Germany
CATEGORIES:CDU/Politik
END:VEVENT
BEGIN:VEVENT
DTSTART;TZID=Europe/Berlin:20210826T190000
DTEND;TZID=Europe/Berlin:20210826T190000
DTSTAMP:20260421T193742
CREATED:20210825T092121Z
LAST-MODIFIED:20210827T115727Z
UID:1560-1630004400-1630004400@hansmeier-koenigslutter.de
SUMMARY:CDU Diskussionsabend "Zukunft des Wohnens"
DESCRIPTION:Diskussionsabend mit \n\nSebastian Lechner MdL\, Generalsekretär der CDU in Niedersachsen\,\nSven Hansmeier\, Geschäftsführer FIBAV-Unternehmensgruppe\,\nGerhard Radeck\, Landrat des Landkreises Helmstedt\nAndreas Weber\, Bundestagskandidat Wahlkreis 51\n\nBitte beachten Sie den Covid-19-Hinweis\, dass eine Teilnahme nur für vollständig geimpfte oder genesene Personen möglich ist. \nGern erwarten wir Ihre Zusage unter info@cdu-helmstedt.de \nAnmeldefrist: bis zum 25.08.21
URL:https://hansmeier-koenigslutter.de/veranstaltung/diskussionsabend/
LOCATION:FIBAV-Unternehmenszentrale\, Scheppauer Weg 13a\, Königslutter\, 38154\, Germany
CATEGORIES:CDU/Politik
END:VEVENT
BEGIN:VEVENT
DTSTART;TZID=Europe/Berlin:20210826T090000
DTEND;TZID=Europe/Berlin:20210826T120000
DTSTAMP:20260421T193742
CREATED:20210811T071811Z
LAST-MODIFIED:20210817T063539Z
UID:730-1629968400-1629979200@hansmeier-koenigslutter.de
SUMMARY:Kommunalwahlkandidaten im Gespräch
DESCRIPTION:Am Informationstand der CDU Königslutter freuen sich Sabrina und Sven Hansmeier auf das interessierte Gespräch mit den Königslutteranern über die anstehenden Wahlen\, ihre Ziele und politischen Angebote. \nDie Architektin Sabrina Hansmeier stellt sich am 12.9.2021 zur Wahl zum Stadtrat. \nDer Unternehmer Sven Hansmeier kandidiert am 12.9.2021 für den Kreistag. \nTeilnehmer: Sven Hansmeier\, Sabrina Hansmeier\nDiese Veranstaltung ist öffentlich \n 
URL:https://hansmeier-koenigslutter.de/veranstaltung/kommunalwahlkandidaten-im-gespraech/
LOCATION:Marktplatz\, Am Markt\, Königslutter am Elm\, 38154\, Germany
CATEGORIES:CDU/Politik
END:VEVENT
BEGIN:VEVENT
DTSTART;TZID=Europe/Berlin:20210825T173000
DTEND;TZID=Europe/Berlin:20210825T173000
DTSTAMP:20260421T193742
CREATED:20210825T091518Z
LAST-MODIFIED:20210825T092720Z
UID:1556-1629912600-1629912600@hansmeier-koenigslutter.de
SUMMARY:Politischer Grillabend
DESCRIPTION:Politischer Grillabend im Rahmen des Landratswahlkampfes mit Landrat Gerhard Radeck auf Einladung von Günther Graf von Schulenburg. \nAnmeldefrist: abgelaufen
URL:https://hansmeier-koenigslutter.de/veranstaltung/politischer-grillabend/
LOCATION:Rittergut Bisdorf\, Bisdorf 2\, Königslutter\, 38154\, Germany
CATEGORIES:CDU/Politik
END:VEVENT
BEGIN:VEVENT
DTSTART;TZID=Europe/Berlin:20210825T160000
DTEND;TZID=Europe/Berlin:20210825T170000
DTSTAMP:20260421T193742
CREATED:20210826T063515Z
LAST-MODIFIED:20210826T064300Z
UID:1586-1629907200-1629910800@hansmeier-koenigslutter.de
SUMMARY:Unternehmergespräch Rittergut Rottorf
DESCRIPTION:Sabrina und Sven Hansmeier besuchen zum Informationsaustausch Marie Binroth-Foet und Harald-Philipp Binroth. \nHarald-Philipp Binroth führt seit zwei Jahrzehnten die Landwirtschaft auf dem Rittergut Rottorf. Von Anfang an setzt der diplomierte Agrarwirt auf Rollrasen. \nMarie Binroth-Foet arbeitet als Lehrerin in Braunschweig und bietet seit einem Jahr integrative Lerntherapien auf dem Rittergut Rottorf an.
URL:https://hansmeier-koenigslutter.de/veranstaltung/unternehmergespraech-rittergut-rottorf/
LOCATION:Rittergut Rottorf\, Sunstedter Straße 5A\, Königslutter\, 38154\, Germany
CATEGORIES:CDU/Politik
END:VEVENT
BEGIN:VEVENT
DTSTART;TZID=Europe/Berlin:20210823T080000
DTEND;TZID=Europe/Berlin:20210823T080000
DTSTAMP:20260421T193742
CREATED:20210827T120305Z
LAST-MODIFIED:20210827T120305Z
UID:1682-1629705600-1629705600@hansmeier-koenigslutter.de
SUMMARY:Vorstandssitzung der Politischen Bildungsstätte Helmstedt
DESCRIPTION:nicht öffentlich
URL:https://hansmeier-koenigslutter.de/veranstaltung/vorstandssitzung-der-politischen-bildungsstaette-helmstedt-2/
LOCATION:Politische Bildungsstätte Helmstedt\, Am Bötschenberg 4\, Helmstedt\, 38350
CATEGORIES:Politische Bildungsstätte
END:VEVENT
BEGIN:VEVENT
DTSTART;TZID=Europe/Berlin:20210727T140000
DTEND;TZID=Europe/Berlin:20210727T140000
DTSTAMP:20260421T193742
CREATED:20210827T120525Z
LAST-MODIFIED:20210827T120530Z
UID:1686-1627394400-1627394400@hansmeier-koenigslutter.de
SUMMARY:FIBAV GmbH 1. Spatenstich Baugebiet "In den Gärten II"
DESCRIPTION:
URL:https://hansmeier-koenigslutter.de/veranstaltung/fibav-gmbh-1-spatenstich-baugebiet-in-den-gaerten-ii/
LOCATION:Baugebiet „In den Gärten II“ Königslutter
CATEGORIES:FIBAV Gruppe
END:VEVENT
BEGIN:VEVENT
DTSTART;TZID=Europe/Berlin:20210726T160000
DTEND;TZID=Europe/Berlin:20210726T173000
DTSTAMP:20260421T193742
CREATED:20210812T062624Z
LAST-MODIFIED:20210822T102335Z
UID:819-1627315200-1627320600@hansmeier-koenigslutter.de
SUMMARY:„Ein Nachmittag mit Bienen“
DESCRIPTION:Bienen sind beliebt und leisten mit ihrer Bestäubungsleistung einen wichtigen Beitrag zur Funktion unserer Ökosysteme\, zudem produzieren sie schmackhaften und gesunden Honig. Kleine und große Bienen-Freunde waren nach Bornum eingeladen. Annette Lüer und Antje Warlich\, zwei junge Imkerinnen\, stellten auf der Streuobstwiese am Klapperberge in Bornum ihr Hobby vor. \nDas Leben und Wirken der Bienen in der freien Natur wurde für Erwachsen und Kinder hautnah erklärt. Sabrina und Sven Hansmeier nutzen als Kandidaten für den Stadtrat bzw. den Kreistag die Gelegenheit für ausführliche Nachfragen.\nStadtratskandidatin Sabrina Hansmeier war schwer begeistert vom Engagement der beiden Bornumerinnen: Annette Luer und Antje Warlich gehen hiermit nicht nur einem Hobby im Freien nach oder verdienen einen kleinen Euro\, sondern sie leisten einen großartigen Beitrag für unsere Natur\, insbesondere für die Pflanzen und Insektenvielfalt. Solch ein Engagement kann nicht aus einer Tageslaune entstehen\, sondern muss mit der Verantwortung für diese Tiere nachhaltig und unabhängig von der Tageslaune betrieben werden. Davor darf man Respekt haben.“ In ausgeräumten\, monotonen Agrarlandschaften ohne Kräuter\, Blühpflanzen und Hecken finden die Bienen seit den gewaltigen Umbrüchen in der Landwirtschaft in der Vergangenheit immer weniger Nahrung. In Maisfeldern für Biogasanlagen beispielsweise blüht nichts. Früher wurden in der Landwirtschaft viele verschiedene Nutzpflanzen angebaut. Heute sind es nur noch wenige\, die in großflächigen Monokulturen mit verkürzter Fruchtfolge wachsen. Sind diese Pflanzen verblüht\, finden die Bienen keine Nahrung mehr. Bienen sichern aber nicht nur die Ernteerträge bei Obst und Gemüse\, sondern auch die Vielfalt und das Überleben unzähliger Wildpflanzen. \n„Ohne Bienen gäbe es viele unserer Nahrungsmittel nicht. Die Verfügbarkeit von gesundem Obst und Gemüse hängt u.a. von der Bestäubung der Blüten durch Bienen ab. Die Arbeit dieser kleinen Tierchen erzeugt neben einem greifbaren Beitrag zur Nahrungsmittelversorgung einen volkswirtschaftlichen Nutzen in Milliardengrößen. Andersherum kann man den Schaden kaum erahnen\, der droht\, wenn das Bienensterben weitergeht. Wir dürfen all den Hobbyimkern dankbar sein\, die ihren Beitrag zur Artenvielfalt und Nahrungssicherheit leisten. Wir sehen hier\, dass Naturschutz vor Ort in unserem Landkreis passiert. Wir dürfen aber auch allen Landwirten dankbar sein\, die zunehmend Blühflächen zur Verfügung stellen\, die über das gesetzliche Soll hinaus gehen“\, meint Kreistagskandidat Sven Hansmeier\, der selbst einige Hektar Blühflächen in der Lüneburger Heide kultivieren und vorhalten lässt.\nhttps://www.cremlingen-online.de/bienen-nachmittag-nach-bornum/ \nTeilnehmer: Sven Hansmeier\, Sabrina Hansmeier\nÖffentlich
URL:https://hansmeier-koenigslutter.de/veranstaltung/ein-nachmittag-mit-bienen/
LOCATION:Bornum\, Bornum\, Am Klapperberge\, Königslutter am Elm\, 38154\, Germany
CATEGORIES:CDU/Politik
END:VEVENT
BEGIN:VEVENT
DTSTART;VALUE=DATE:20210723
DTEND;VALUE=DATE:20210724
DTSTAMP:20260421T193742
CREATED:20210811T134526Z
LAST-MODIFIED:20210811T135004Z
UID:787-1626998400-1627084799@hansmeier-koenigslutter.de
SUMMARY:Vortrag Rotary Club Braunschweig
DESCRIPTION:Wohlstand steht über allem – Land der Dichter und Denker 2.0
URL:https://hansmeier-koenigslutter.de/veranstaltung/vortrag-rotary-club-braunschweig/
LOCATION:Hotel Deutsches Haus OHG\, Ruhfäutchenplatz 1\, Braunschweig\, 38100\, Germany
CATEGORIES:Öffentliches Engagement
END:VEVENT
BEGIN:VEVENT
DTSTART;TZID=Europe/Berlin:20210720T190000
DTEND;TZID=Europe/Berlin:20210720T190000
DTSTAMP:20260421T193742
CREATED:20210827T121548Z
LAST-MODIFIED:20210827T121628Z
UID:1690-1626807600-1626807600@hansmeier-koenigslutter.de
SUMMARY:Stipendiatenvortrag Technikerverein Braunschweig von 1887 e.V.
DESCRIPTION:nicht öffentlich
URL:https://hansmeier-koenigslutter.de/veranstaltung/stipendiatenvortrag-technikerverein-braunschweig-von-1887-e-v-2/
LOCATION:Digital
CATEGORIES:Technikerverein Braunschweig e.V.
END:VEVENT
BEGIN:VEVENT
DTSTART;TZID=Europe/Berlin:20210716T123000
DTEND;TZID=Europe/Berlin:20210716T143000
DTSTAMP:20260421T193742
CREATED:20210812T061032Z
LAST-MODIFIED:20210823T132923Z
UID:803-1626438600-1626445800@hansmeier-koenigslutter.de
SUMMARY:Betriebsbesichtigung und Unternehmensgespräch bei AUNDE GmbH
DESCRIPTION:Die Spitzenkandidaten der CDU Königslutter für die Wahl zum Kreistag am 12.9.2021 Volker Meier\, Sven Hansmeier und Alexander Jordan besuchten gemeinsam mit den Kandidaten für den Deutschen Bundestag\, Andreas Weber\, die AUNDE GmbH in Königslutter. Geschäftsführer Jochen Wirtz stellt sich den Fragen nach den Standortvorteilen in Königslutter und präsentiert sein Unternehmen.\nDie CDU-Vertreter sammeln auch ein kleines Paket an Aufgaben ein\, die sich der Politik stellen\, um die Attraktivität des Landkreises Helmstedt weiter zu steigern\, um diesen gerade auch bei Zulieferern der Volkswagen AG in den Blick zu rücken. \nTeilnehmer: Sven Hansmeier\nNicht öffentlich\, geschlossener Kreis \n \n 
URL:https://hansmeier-koenigslutter.de/veranstaltung/betriebsbesichtigung-und-unternehmensgespraech-bei-aunde-gmbh/
LOCATION:AUNDE GmbH\, Am Mühlenhop 4\, Königslutter am Elm\, 38154\, Germany
CATEGORIES:CDU/Politik
END:VEVENT
BEGIN:VEVENT
DTSTART;TZID=Europe/Berlin:20210713T143000
DTEND;TZID=Europe/Berlin:20210713T143000
DTSTAMP:20260421T193742
CREATED:20210827T121834Z
LAST-MODIFIED:20210827T121851Z
UID:1692-1626186600-1626186600@hansmeier-koenigslutter.de
SUMMARY:Auftaktsitzung Haushaltsausschuss der IHK Braunschweig
DESCRIPTION:nicht öffentlich
URL:https://hansmeier-koenigslutter.de/veranstaltung/auftaktsitzung-haushaltsausschuss-der-ihk-braunschweig/
LOCATION:IHK Braunschweig\, Brabandtstraße 11\, Braunschweig\, 38100
CATEGORIES:IHK
END:VEVENT
BEGIN:VEVENT
DTSTART;TZID=Europe/Berlin:20210708T083000
DTEND;TZID=Europe/Berlin:20210708T083000
DTSTAMP:20260421T193742
CREATED:20210827T122015Z
LAST-MODIFIED:20210827T122041Z
UID:1695-1625733000-1625733000@hansmeier-koenigslutter.de
SUMMARY:IHKN Handelsausschuss "Business Improvement Districts Niedersachen"
DESCRIPTION:nicht öffentlich
URL:https://hansmeier-koenigslutter.de/veranstaltung/ihkn-handelsausschuss-business-improvement-districts-niedersachen/
LOCATION:Digital
CATEGORIES:IHK
END:VEVENT
BEGIN:VEVENT
DTSTART;TZID=Europe/Berlin:20210630T170000
DTEND;TZID=Europe/Berlin:20210630T170000
DTSTAMP:20260421T193742
CREATED:20210827T122300Z
LAST-MODIFIED:20210827T124727Z
UID:1699-1625072400-1625072400@hansmeier-koenigslutter.de
SUMMARY:FIBAV GmbH Scheckübergabe FUN Hondelage
DESCRIPTION:FIBAV unterstützt Urwaldprojekt mit 10.000 Euro.\nSven Hansmeier übergibt Spende an FUN Hondelage e.V. \nnicht öffentlich
URL:https://hansmeier-koenigslutter.de/veranstaltung/fibav-gmbh-scheckuebergabe-fun-hondelage/
LOCATION:Waldrand Hondelage
CATEGORIES:FIBAV Gruppe
END:VEVENT
BEGIN:VEVENT
DTSTART;TZID=Europe/Berlin:20210621T080000
DTEND;TZID=Europe/Berlin:20210621T080000
DTSTAMP:20260421T193742
CREATED:20210827T122430Z
LAST-MODIFIED:20210827T122430Z
UID:1701-1624262400-1624262400@hansmeier-koenigslutter.de
SUMMARY:Vorstandssitzung der Politischen Bildungsstätte Helmstedt
DESCRIPTION:nicht öffentlich
URL:https://hansmeier-koenigslutter.de/veranstaltung/vorstandssitzung-der-politischen-bildungsstaette-helmstedt-3/
LOCATION:Digital
CATEGORIES:Politische Bildungsstätte
END:VEVENT
BEGIN:VEVENT
DTSTART;TZID=Europe/Berlin:20210610T190000
DTEND;TZID=Europe/Berlin:20210610T190000
DTSTAMP:20260421T193742
CREATED:20210827T122549Z
LAST-MODIFIED:20210827T122549Z
UID:1703-1623351600-1623351600@hansmeier-koenigslutter.de
SUMMARY:Vorstandssitzung des Technikervereins Braunschweig von 1887 e.V.
DESCRIPTION:nicht öffentlich
URL:https://hansmeier-koenigslutter.de/veranstaltung/vorstandssitzung-des-technikervereins-braunschweig-von-1887-e-v/
LOCATION:Digital
CATEGORIES:Technikerverein Braunschweig e.V.
END:VEVENT
BEGIN:VEVENT
DTSTART;TZID=Europe/Berlin:20210608T090000
DTEND;TZID=Europe/Berlin:20210608T090000
DTSTAMP:20260421T193742
CREATED:20210827T122638Z
LAST-MODIFIED:20210827T122638Z
UID:1705-1623142800-1623142800@hansmeier-koenigslutter.de
SUMMARY:Sitzung des Sachverständigenausschuss der IHK Braunschweig
DESCRIPTION:nicht öffentlich
URL:https://hansmeier-koenigslutter.de/veranstaltung/sitzung-des-sachverstaendigenausschuss-der-ihk-braunschweig/
LOCATION:IHK Braunschweig\, Brabandtstraße 11\, Braunschweig\, 38100
CATEGORIES:IHK
END:VEVENT
END:VCALENDAR